BEGIN:VCALENDAR
VERSION:2.0
PRODID:-//Arts in the Burg - ECPv6.15.20//NONSGML v1.0//EN
CALSCALE:GREGORIAN
METHOD:PUBLISH
X-ORIGINAL-URL:https://artsintheburg.com
X-WR-CALDESC:Events for Arts in the Burg
REFRESH-INTERVAL;VALUE=DURATION:PT1H
X-Robots-Tag:noindex
X-PUBLISHED-TTL:PT1H
BEGIN:VTIMEZONE
TZID:UTC
BEGIN:STANDARD
TZOFFSETFROM:+0000
TZOFFSETTO:+0000
TZNAME:UTC
DTSTART:20200101T000000
END:STANDARD
END:VTIMEZONE
BEGIN:VEVENT
DTSTART;TZID=UTC:20210902T163000
DTEND;TZID=UTC:20210902T193000
DTSTAMP:20260423T124137
CREATED:20210811T200004Z
LAST-MODIFIED:20210831T152334Z
UID:1797-1630600200-1630611000@artsintheburg.com
SUMMARY:Open Gallery Local Artist Exhibition
DESCRIPTION:Free Admission \nARTISTS\nHelen Brooks \nJamie Reed \nBrooke Reed \nShannon Pickering Sharpe \nMargaret Tucker \nDale Woodfin \nMEDIUM \nPaintings \nDATE & TIME\nAugust 19th – 21st\, 26th – 28th and September 2nd – 4th\nThursday & Friday 4 pm -7:30 pm CST\nSaturday 11 am – 5:30 pm CST \nLOCATION\nArts in the Burg – Gallery\n207 S. Cedar South Pittsburg\, TN
URL:https://artsintheburg.com/event/open-gallery-local-artist-exhibition-7/
LOCATION:Arts in the Burg\, 207 S Cedar Ave\, South Pittsburg\, TN\, 37380\, United States
CATEGORIES:Gallery
ATTACH;FMTTYPE=image/jpeg:https://artsintheburg.com/wp-content/uploads/2021/08/open-gallery-fb-lores-for-web-event-copy.jpg
ORGANIZER;CN="Arts in the Burg":MAILTO:artsintheburg@gmail.com
END:VEVENT
BEGIN:VEVENT
DTSTART;TZID=UTC:20210828T160000
DTEND;TZID=UTC:20210828T193000
DTSTAMP:20260423T124137
CREATED:20210811T190000Z
LAST-MODIFIED:20210811T195212Z
UID:1766-1630166400-1630179000@artsintheburg.com
SUMMARY:Open Gallery Local Artists Exhibition
DESCRIPTION:Free Admission \nARTIST\nHelen Brooks \nJamie Reed \nBrooke Reed \nShannon Pickering Sharpe \nMargaret Tucker \nDale Woodfin \n  \nMEDIUM\nPaintings \nDATE & TIME\nAugust 19th – 21st\, 26th – 28th and September 2nd – 4th\nThursday & Friday 4 pm -7:30 pm CST\nSaturday 11 am – 5:30 pm CST \nLOCATION\nArts in the Burg – Gallery\n207 S. Cedar South Pittsburg\, TN
URL:https://artsintheburg.com/event/gallery-open-local-artists/
LOCATION:Arts in the Burg\, 207 S Cedar Ave\, South Pittsburg\, TN\, 37380\, United States
CATEGORIES:Gallery
ATTACH;FMTTYPE=image/jpeg:https://artsintheburg.com/wp-content/uploads/2021/08/open-gallery-fb-lores-for-web-event-copy.jpg
ORGANIZER;CN="Arts in the Burg":MAILTO:artsintheburg@gmail.com
END:VEVENT
BEGIN:VEVENT
DTSTART;TZID=UTC:20210828T110000
DTEND;TZID=UTC:20210828T173000
DTSTAMP:20260423T124137
CREATED:20210811T193332Z
LAST-MODIFIED:20210811T195813Z
UID:1782-1630148400-1630171800@artsintheburg.com
SUMMARY:Open Gallery Local Artist Exhibition
DESCRIPTION:Free Admission \nARTIST\nHelen Brooks \nJamie Reed \nBrooke Reed \nShannon Pickering Sharpe \nMargaret Tucker \nDale Woodfin \n  \nMEDIUM\nPaintings \nDATE & TIME\nAugust 19th – 21st\, 26th – 28th and September 2nd – 4th\nThursday & Friday 4 pm -7:30 pm CST\nSaturday 11 am – 5:30 pm CST \nLOCATION\nArts in the Burg – Gallery\n207 S. Cedar South Pittsburg\, TN
URL:https://artsintheburg.com/event/open-gallery-local-artist-exhibition-4/
LOCATION:Arts in the Burg\, 207 S Cedar Ave\, South Pittsburg\, TN\, 37380\, United States
CATEGORIES:Gallery
ATTACH;FMTTYPE=image/jpeg:https://artsintheburg.com/wp-content/uploads/2021/08/open-gallery-fb-lores-for-web-event-copy.jpg
ORGANIZER;CN="Arts in the Burg":MAILTO:artsintheburg@gmail.com
END:VEVENT
BEGIN:VEVENT
DTSTART;TZID=UTC:20210827T160000
DTEND;TZID=UTC:20210827T193000
DTSTAMP:20260423T124137
CREATED:20210811T194848Z
LAST-MODIFIED:20210811T194848Z
UID:1790-1630080000-1630092600@artsintheburg.com
SUMMARY:Open Gallery Local Artist Exhibition
DESCRIPTION:Free Admission \nARTIST\nHelen Brooks \nJamie Reed \nBrooke Reed \nShannon Pickering Sharpe \nMargaret Tucker \nDale Woodfin \nMEDIUM \nPaintings \nDATE & TIME\nAugust 19th – 21st\, 26th – 28th and September 2nd – 4th\nThursday & Friday 4 pm -7:30 pm CST\nSaturday 11 am – 5:30 pm CST \nLOCATION\nArts in the Burg – Gallery\n207 S. Cedar South Pittsburg\, TN
URL:https://artsintheburg.com/event/open-gallery-local-artist-exhibition-5/
LOCATION:Arts in the Burg\, 207 S Cedar Ave\, South Pittsburg\, TN\, 37380\, United States
ATTACH;FMTTYPE=image/jpeg:https://artsintheburg.com/wp-content/uploads/2021/08/open-gallery-fb-lores-for-web-event-copy.jpg
ORGANIZER;CN="Arts in the Burg":MAILTO:artsintheburg@gmail.com
END:VEVENT
BEGIN:VEVENT
DTSTART;TZID=UTC:20210826T173000
DTEND;TZID=UTC:20210826T190000
DTSTAMP:20260423T124137
CREATED:20210803T194836Z
LAST-MODIFIED:20210811T194440Z
UID:1733-1629999000-1630004400@artsintheburg.com
SUMMARY:Watercolor Classes with Elizabeth Allen 3 of 5
DESCRIPTION:Transparent Watercolor Painting with Elizabeth Allen: Open to all abilities from beginner to advanced.\nRESERVE YOUR TICKETS: https://www.eventbrite.com/e/watercolor-with-elizabeth-allen-at-arts-in-the-burg-tickets-164994443823 \n5 CLASS SERIES. Choose all dates or attend the classes that best fit you budget and schedule. \nYou will learn how to handle painting with transparent watercolor using still life objects. Drawing\, composition and color theory are included as they are the foundation for making successful paintings. You do not have to have any drawing or painting background to take this class; all are welcome. We will also look at works by national artists to enhance your learning experience. Materials are provided. \nElizabeth Allen bio: \nElizabeth Allen graduated from The University of the South\, Sewanee\, TN\, with a degree in fine arts. She has taught drawing and painting at the Hunter Museum in Chattanooga and in her own home and studio. Elizabeth has studied with artist Jack Beal\, Sondra Freckelton\, Janet Fish and Mia Bergeron among others. She has had worked exhibited in galleries through Tennessee. \nTo see her work please visit her website www.elizabethallen.online \nMaterials Provided \nClass Location: \nArts in the Burg\, 207 S. Cedar Ave.\, South Pittsburg\, TN 37380
URL:https://artsintheburg.com/event/watercolor-classes-with-elizabeth-allen-3/
LOCATION:Arts in the Burg\, 207 S Cedar Ave\, South Pittsburg\, TN\, 37380\, United States
CATEGORIES:Art Classes
ATTACH;FMTTYPE=image/jpeg:https://artsintheburg.com/wp-content/uploads/2021/08/event-calendar.jpg
ORGANIZER;CN="Arts in the Burg":MAILTO:artsintheburg@gmail.com
END:VEVENT
BEGIN:VEVENT
DTSTART;TZID=UTC:20210826T160000
DTEND;TZID=UTC:20210826T193000
DTSTAMP:20260423T124137
CREATED:20210811T193031Z
LAST-MODIFIED:20210811T194447Z
UID:1780-1629993600-1630006200@artsintheburg.com
SUMMARY:Open Gallery Local Artist Exhibition
DESCRIPTION:Free Admission \nARTIST\nHelen Brooks \nJamie Reed \nBrooke Reed \nShannon Pickering Sharpe \nMargaret Tucker \nDale Woodfin \n  \nMEDIUM\nPaintings \nDATE & TIME\nAugust 19th – 21st\, 26th – 28th and September 2nd – 4th\nThursday & Friday 4 pm -7:30 pm CST\nSaturday 11 am – 5:30 pm CST \nLOCATION\nArts in the Burg – Gallery\n207 S. Cedar South Pittsburg\, TN
URL:https://artsintheburg.com/event/open-gallery-local-artist-exhibition-3/
LOCATION:Arts in the Burg\, 207 S Cedar Ave\, South Pittsburg\, TN\, 37380\, United States
CATEGORIES:Gallery
ATTACH;FMTTYPE=image/jpeg:https://artsintheburg.com/wp-content/uploads/2021/08/open-gallery-fb-lores-for-web-event-copy.jpg
ORGANIZER;CN="Arts in the Burg":MAILTO:artsintheburg@gmail.com
END:VEVENT
BEGIN:VEVENT
DTSTART;TZID=UTC:20210821T110000
DTEND;TZID=UTC:20210821T173000
DTSTAMP:20260423T124137
CREATED:20210811T192838Z
LAST-MODIFIED:20210811T194449Z
UID:1778-1629543600-1629567000@artsintheburg.com
SUMMARY:Open Gallery Local Artist Exhibition
DESCRIPTION:Free Admission \nARTIST\nHelen Brooks \nJamie Reed \nBrooke Reed \nShannon Pickering Sharpe \nMargaret Tucker \nDale Woodfin \n  \nMEDIUM\nPaintings \nDATE & TIME\nAugust 19th – 21st\, 26th – 28th and September 2nd – 4th\nThursday & Friday 4 pm -7:30 pm CST\nSaturday 11 am – 5:30 pm CST \nLOCATION\nArts in the Burg – Gallery\n207 S. Cedar South Pittsburg\, TN
URL:https://artsintheburg.com/event/open-gallery-local-artist-exhibition-2/
LOCATION:Arts in the Burg\, 207 S Cedar Ave\, South Pittsburg\, TN\, 37380\, United States
ATTACH;FMTTYPE=image/jpeg:https://artsintheburg.com/wp-content/uploads/2021/08/open-gallery-fb-lores-for-web-event-copy.jpg
ORGANIZER;CN="Arts in the Burg":MAILTO:artsintheburg@gmail.com
END:VEVENT
BEGIN:VEVENT
DTSTART;TZID=UTC:20210821T110000
DTEND;TZID=UTC:20210821T170000
DTSTAMP:20260423T124137
CREATED:20210818T182127Z
LAST-MODIFIED:20210818T182423Z
UID:1806-1629543600-1629565200@artsintheburg.com
SUMMARY:Shrinky Dinks Youth Activity - Drop-in
DESCRIPTION:YOUTH ACTIVITY\nSHRINKY DINK with Kimerlen Spake Moore \nThis is a drop-in and participate activity. Not a class. \nEvent by Arts in the Burg\n207 S Cedar Ave\, South Pittsburg\, TN 37380\nDuration: 3 hr \nWe help you imagine and draw your image onto a Shrinky Dinks sheet then we’ll bake it…and WOW! It transforms your image into a hardened piece of plastic that gets 9 times thicker and can be used for hundreds of applications. You’ll create useful and meaningful keepsakes\, jewelry\, ID tags\, pins and more. \nMaterials are included. All you need to bring is your imagination and a smile. Stop by for a while and enjoy the fun!\nNeed a little help? \nIf you truly cannot afford suggested donation of $10 for this activity don’t worry about it. Bring your young one in to have some fun anyway. If you can pay more please do. It will help others less fortunate experience the joy of creativity and support Arts in the Burg. \nNOTE: This class is structured for youth of 13 years or younger but open to all ages. PARENTS/GUARDIANS must stay with children younger than13 years old. \nSEE THE FACEBOOK EVENT https://fb.me/e/Zn7CSpql
URL:https://artsintheburg.com/event/shrinky-dinks-youth-activity-drop-in/
LOCATION:Arts in the Burg\, 207 S Cedar Ave\, South Pittsburg\, TN\, 37380\, United States
ATTACH;FMTTYPE=image/jpeg:https://artsintheburg.com/wp-content/uploads/2021/08/youth-activity-shrinky-dinks-loresolution-web.jpg
END:VEVENT
BEGIN:VEVENT
DTSTART;TZID=UTC:20210820T160000
DTEND;TZID=UTC:20210820T193000
DTSTAMP:20260423T124137
CREATED:20210811T192306Z
LAST-MODIFIED:20210811T194506Z
UID:1775-1629475200-1629487800@artsintheburg.com
SUMMARY:Open Gallery Local Artist Exhibition
DESCRIPTION:Free Admission \nARTIST\nHelen Brooks \nJamie Reed \nBrooke Reed \nShannon Pickering Sharpe \nMargaret Tucker \nDale Woodfin \n  \nMEDIUM\nPaintings \nDATE & TIME\nAugust 19th – 21st\, 26th – 28th and September 2nd – 4th\nThursday & Friday 4 pm -7:30 pm CST\nSaturday 11 am – 5:30 pm CST \nLOCATION\nArts in the Burg – Gallery\n207 S. Cedar South Pittsburg\, TN
URL:https://artsintheburg.com/event/open-gallery-local-artist-exhibition/
LOCATION:Arts in the Burg\, 207 S Cedar Ave\, South Pittsburg\, TN\, 37380\, United States
CATEGORIES:Gallery
ATTACH;FMTTYPE=image/jpeg:https://artsintheburg.com/wp-content/uploads/2021/08/open-gallery-fb-lores-for-web-event-copy.jpg
ORGANIZER;CN="Arts in the Burg":MAILTO:artsintheburg@gmail.com
END:VEVENT
BEGIN:VEVENT
DTSTART;TZID=UTC:20210819T173000
DTEND;TZID=UTC:20210819T190000
DTSTAMP:20260423T124137
CREATED:20210803T194648Z
LAST-MODIFIED:20210811T194500Z
UID:1731-1629394200-1629399600@artsintheburg.com
SUMMARY:Watercolor Classes with Elizabeth Allen 2 of 5
DESCRIPTION:Transparent Watercolor Painting with Elizabeth Allen: Open to all abilities from beginner to advanced.\nRESERVE YOUR TICKETS: https://www.eventbrite.com/e/watercolor-with-elizabeth-allen-at-arts-in-the-burg-tickets-164994443823 \n5 CLASS SERIES. Choose all dates or attend the classes that best fit you budget and schedule. \nYou will learn how to handle painting with transparent watercolor using still life objects. Drawing\, composition and color theory are included as they are the foundation for making successful paintings. You do not have to have any drawing or painting background to take this class; all are welcome. We will also look at works by national artists to enhance your learning experience. Materials are provided. \nElizabeth Allen bio: \nElizabeth Allen graduated from The University of the South\, Sewanee\, TN\, with a degree in fine arts. She has taught drawing and painting at the Hunter Museum in Chattanooga and in her own home and studio. Elizabeth has studied with artist Jack Beal\, Sondra Freckelton\, Janet Fish and Mia Bergeron among others. She has had worked exhibited in galleries through Tennessee. \nTo see her work please visit her website www.elizabethallen.online \nMaterials Provided \nClass Location: \nArts in the Burg\, 207 S. Cedar Ave.\, South Pittsburg\, TN 37380
URL:https://artsintheburg.com/event/watercolor-classes-with-elizabeth-allen-2/
LOCATION:Arts in the Burg\, 207 S Cedar Ave\, South Pittsburg\, TN\, 37380\, United States
CATEGORIES:Art Classes
ATTACH;FMTTYPE=image/jpeg:https://artsintheburg.com/wp-content/uploads/2021/08/event-calendar.jpg
ORGANIZER;CN="Arts in the Burg":MAILTO:artsintheburg@gmail.com
END:VEVENT
BEGIN:VEVENT
DTSTART;TZID=UTC:20210819T160000
DTEND;TZID=UTC:20210819T193000
DTSTAMP:20260423T124137
CREATED:20210811T195639Z
LAST-MODIFIED:20210811T195639Z
UID:1793-1629388800-1629401400@artsintheburg.com
SUMMARY:Open Gallery Local Artist Exhibition
DESCRIPTION:Free Admission \nARTIST\nHelen Brooks \nJamie Reed \nBrooke Reed \nShannon Pickering Sharpe \nMargaret Tucker \nDale Woodfin \nMEDIUM \nPaintings \nDATE & TIME\nAugust 19th – 21st\, 26th – 28th and September 2nd – 4th\nThursday & Friday 4 pm -7:30 pm CST\nSaturday 11 am – 5:30 pm CST \nLOCATION\nArts in the Burg – Gallery\n207 S. Cedar South Pittsburg\, TN
URL:https://artsintheburg.com/event/open-gallery-local-artist-exhibition-6/
LOCATION:Arts in the Burg\, 207 S Cedar Ave\, South Pittsburg\, TN\, 37380\, United States
ATTACH;FMTTYPE=image/jpeg:https://artsintheburg.com/wp-content/uploads/2021/08/open-gallery-fb-lores-for-web-event-copy.jpg
ORGANIZER;CN="Arts in the Burg":MAILTO:artsintheburg@gmail.com
END:VEVENT
BEGIN:VEVENT
DTSTART;TZID=UTC:20210812T173000
DTEND;TZID=UTC:20210812T190000
DTSTAMP:20260423T124137
CREATED:20210803T193142Z
LAST-MODIFIED:20210811T194511Z
UID:1719-1628789400-1628794800@artsintheburg.com
SUMMARY:Watercolor Classes with Elizabeth Allen 1 of 5
DESCRIPTION:Transparent Watercolor Painting with Elizabeth Allen: Open to all abilities from beginner to advanced.\nRESERVE YOUR TICKETS: https://www.eventbrite.com/e/watercolor-with-elizabeth-allen-at-arts-in-the-burg-tickets-164994443823 \n5 CLASS SERIES. Choose all dates or attend the classes that best fit you budget and schedule. \nYou will learn how to handle painting with transparent watercolor using still life objects. Drawing\, composition and color theory are included as they are the foundation for making successful paintings. You do not have to have any drawing or painting background to take this class; all are welcome. We will also look at works by national artists to enhance your learning experience. Materials are provided. \nElizabeth Allen bio: \nElizabeth Allen graduated from The University of the South\, Sewanee\, TN\, with a degree in fine arts. She has taught drawing and painting at the Hunter Museum in Chattanooga and in her own home and studio. Elizabeth has studied with artist Jack Beal\, Sondra Freckelton\, Janet Fish and Mia Bergeron among others. She has had worked exhibited in galleries through Tennessee. \nTo see her work please visit her website www.elizabethallen.online \nMaterials Provided \nClass Location: \nArts in the Burg\, 207 S. Cedar Ave.\, South Pittsburg\, TN 37380
URL:https://artsintheburg.com/event/watercolor-classes-with-elizabeth-allen/
LOCATION:Arts in the Burg\, 207 S Cedar Ave\, South Pittsburg\, TN\, 37380\, United States
CATEGORIES:Art Classes
ATTACH;FMTTYPE=image/jpeg:https://artsintheburg.com/wp-content/uploads/2021/08/event-calendar.jpg
ORGANIZER;CN="Arts in the Burg":MAILTO:artsintheburg@gmail.com
END:VEVENT
BEGIN:VEVENT
DTSTART;TZID=UTC:20210626T090000
DTEND;TZID=UTC:20210626T160000
DTSTAMP:20260423T124137
CREATED:20201206T190658Z
LAST-MODIFIED:20220330T155419Z
UID:79-1624698000-1624723200@artsintheburg.com
SUMMARY:Arts in the Burg Launch Party
DESCRIPTION:Be a part of the art!  \nGOOD MEMORIES \n\nAt the 2021 Arts in the Burg Launch Party festival in South Pittsburg\, TN.\n\nJUNE 26th\, 2021  9 am – 4pm CST\n\nNO PETS. NO DRONES. NO COOLERS\n\nFREE ADMISSION. BRING YOUR FOLDING CHAIR.\n\n(FREE EXCEPT: BEN SOLLEE / POP-UP PROJECT)\n\n\n  \nVISUAL ARTISTS\n  \nENTERTAINMENT\n  \nFESTIVAL MAP\n  \n Save the date on Facebook\n\n25 vetted artists booths – booths open from 9 am – 4 pm CST\nEntertainment 15 eclectic performing artists on 2 outdoor stages and a featured performance in the Princess Theatre\nGuest speakers\nMurals\nOur communities first collaborative mural (25′ x 98′)\nFood Trucks\nCraft Beer Vendors\nGames\nParticipate in the Every Changing Wall art\nMerch booth\nAnd more\n\nVendors – Entertainers – Guest Speakers – Visual Artists\nAPPLY HERE \nCRAFT BEER on tap!\n \nENTERTAINMENT\n\nSpecial Performance – Princess Theatre\nBen Sollee (Emmy Award Winning) with the Pop-up Project  4:30pm – 5:30pm CST\n\nREAD MORE: https://artsintheburg.com/ben-sollee/ \n \nThe Pop-up Project performing with Ben Sollee in the Princess Theatre 4:30pm – 5:30pm\n\nREAD MORE: https://artsintheburg.com/the-pop-up-project/ \nBUY TICKETS TO BEN SOLLEE and THE POP-UP PROJECT\n \n\nALL OTHER PERFORMANCES ARE FREE ADMISSION\n\nOutside Main Stage Outside\n\nRaelyn Nelson Band (Willie Nelson’s Granddaughter) 3pm – 4pm CST\n \nTBA 1:20 pm – 2:20 pm –\nRick Rushing Blues Trio 12:00pm – 1pm CST\n \nSomersault String Ensemble – 10:40am – 11:40am CST\n \nJimmy Galloway & Friends (Jazz guitar virtuoso) 9:20 am – 10:20 am CST\n \n2nd Stage Outside\nJesse Black – Alternative Songwriter – 12:30 pm – 1:25 pm CST\n \nStringer’s Ridge Band – Irish Music – 11:30 am – 12:25 pm CST\n\nRobert Lee – Songwriter and former The Voice contestant 10:30 am – 11:25 am CST\n \nDana Rogers – Songwriter and Acoustic Jazz easy listening 9:00 am to 10:25 am CST\n \n\nGuest Speakers\n\nTina O’Hailey – Savannah College of Art and Design SCAD\n\nTopic – Importance of Art Education\n11:40 am CST\nSCAD ANIMATION PROFESSOR\n\nTina O’Hailey Books for PURCHASE \nShannon Ford – Tennessee Arts Commission\nNorris Hall – Art Illustrator\nAmy Loudermilk – Arts Build Chattanooga\nSouth Pittsburg Area Revitalization Quest SPARQ and Arts in the Burg speaker and announcements\nCity of South Pittsburg Elected Officials\nAnd more…\n\nVISUAL ARTISTS – Festival Booths\n\nVisual Artists 30 Booths (Glass\, Basketry\, Wood\, Metal\, Oil/Acrylic\, Printmaking/Drawing\, Fiber/Leather\, Ceramics\, 2-d and 3-D Mixed Media\, Jewelry\, Photography/Digital Art\, Sculpture\, Watercolor/Pastel\, Furniture)\nLinda Kerlin\n \nAbout Linda Kerlin\nReiko Rymer – Pottery Demonstrations and pottery for sale.\nABOUT REIKO\n \nAngel Duncan\nOil/Acrylic – I found paint when loss found me. Art isn’t about just paint\, it’s about finding a place to put emotions that overfill my head & threaten my sanity.www.deviantart.com/accidentalartangel \nBecky Phelps\n2-d and 3-D Mixed Media – An Unfiltered\, unrefined\, pure\, raw tag art flavor. https://www.beckyphelps.com/ \nBen Paty\nWood – Spectacular wood creations https://www.instagram.com/vubeefy/ \nBryan Garris\nPhotography/Digital Art – Bryan primarily works in the medium of black and white film and makes handmade silver-gelatin prints in his darkroom. http://www.bryangarris.com/ \nColleen Williams \nCeramics – Colleen loves to make forms and make them beautiful…clay is her favorite material for this self expression. https://www.colleenwilliamsclay.com/ \nDale Woodfin\n2-d and 3-D Mixed Media\, Photography/Digital Art –  LOCAL – \nGail Gill\n2-d and 3-D Mixed Media – LOCAL  https://m.facebook.com/Farmhouse-Spool-Clocks-791818181017924/ \nHeather and Joe Palladino\nCeramics – I create pottery. He throws pots and I handmade platters\, spoon rests\, trinket dishes and necklace pendants. https://www.instagram.com/heather_palladino/ \nJacquelen Bush\n2-d and 3-D Mixed Media –  Needle”N”Cord is a fabric and yarn very creative toys \, accessories.  https://www.facebook.com/Needleandcord \nJake Bray and J Bray\nSculpture – chain saw carvings   https://www.facebook.com/carveawaybrays/ \nJamie Reed – Printmaking/Drawing\nLOCAL – Colorful and creative portraits https://www.facebook.com/JandJArtCreations \nJessica Cowan\nCeramics – Middle TN artist producing one of a kind\, hand made ceramics (and small batch bisque too!) https://www.instagram.com/northshoreceramicco/ \nKathryn Kenway\nOil/Acrylic – Kathryn is based in Chattanooga\, TN. She is originally from Windsor\, IL. Katie enjoys hiking\, traveling\, and spending time with her friends\, husband\, and her two dogs. Katie works as an ER nurse to fund her small business. She makes custom pieces along with her own products. Please support her and check out her talented work.  https://artsyfartsymagic.com.co/ \nKen Zech\nJewelry – Each piece is made to order with a delicate precision and an attention to detail. I take an enormous amount of pride in my work and thrive on feedback from all of my very special customers. https://www.just4ujewelry.com/  \nKristie Webb and Deborah Smith\nOil/Acrylic – LOCAL – Paint parties and painting tips   https://www.facebook.com/groups/196617480697369   AND   https://www.facebook.com/Painters-Palette-115372970164464 \nLeslie Sharpe\nOil/Acrylic –  Leslie has always loved the solitary and meditative process of creating art. Leslie’s artistic focus moved from figurative oil painting to abstract acrylic painting while working as a school counselor at Signal Mountain Middle/High School for the past nine years. http://www.lesliesharpe.org/ \nLinda Kerlin\nOil/Acrylic – 2-d and 3-D Mixed Media – LOCAL Linda Kerlin is a multi-media\,multi-subject artist who uses her intuitive expression to create complex & colorful layered spaces. Her painting & sculpture draws from a mixture of her current surroundings & desires. Linda’s emotional uniqueness & spiritual reflection is felt through the reinvention\, & abstraction of these familiar places & remembrances. https://www.lindakerlin.com/ \nLindsey Johnson\nOil/Acrylic – Self-expression… one piece at a time. From my heart\, to your home. Fabby Chic Designs\, Creative Director https://www.facebook.com/FabbyChicDesigns \nLisa Swift\nOil/Acrylic  – Lisa Swift is a self taught artist from South Pittsburg\, Tennessee\, where she developed an eye for all things nature.  She moved to Sarasota\, FL in 1993\, where she continues to educate herself with the plentiful Master Artists’ Workshops\, within this thriving artists community. \nShe has exhibited in group and juried shows at Art Uptown Gallery\, Renaissance School of Art\, Art Center Sarasota\, Venice Art Center\, Manatee Art Center\, The Hub in Sarasota\, Florida\, and The Phillippi Mansion.  https://www.artbylisaswift.com/ \nLydia Randolph\nOil/Acrylic  –  Lydia is a full-time artist living in a remote area of north Alabama. She is inspired by Gauguin’s violent use of color\, Mary Cassatt’s delicate and precise renderings\, and Eakins’ honesty. Lydia paints things from my life\, relics and ruins of our dwindling agrarian society\, trucks and equipment left to grow into the weeds and trees.   https://www.lydiarandolphfineart.com/ \nMegan Gibson\nPrintmaking/Drawing – LOCAL – I was once asked what my favorite animal was during an interview years ago. The interviewer of course said his was a tiger. *eye roll* I\, completely missing the point of the question replied simply with my favorite animal. A mischievous\, thieving\, trash loving ball of fluff…. I didn’t get the job. https://www.facebook.com/photo?fbid=10222498025492619&set=a.1758627958715 \nMisty Ogle Semanco\nOil/Acrylic  –  I consider my artwork a marriage of linear and organic\, embracing calm and chaos. My focus is concentrated on shape\, color\, and texture. My current style of painting is impressionism\, but I often veer off to more of an expressionist style that displays and/or evokes emotion.  All of my current works are inspired by real places infused with dreams and imaginings. To see a place in person is only one way of looking at it; in my paintings\, I want people to see what they can’t in a live view. https://www.mistyogle.com/ \nStephen Pitts\nPrintmaking/Drawing – My drawings are all done by hand\, using Rapidiograph pens. I use a ruler and a compass to generate a pencil line grid. Once the grid is in place I then draw the designs in ink. The images are randomly generated and sometimes change significantly during the process of creating them. The drawings are created by drawing one symmetrical feature at a time\, much like growing a crystal.  https://symmetricaluniverse.com/ \nPeter Collery\nPhotography/Digital Art – Peter shows the color\, beauty and ever changing world we see all around us. He looks for the life\, vitality\, mystery and the real beauty that all people have ; the spirit of our nature.  https://petercolleryphotography.com/ \nRebecca Balch\nFiber/Leather –  https://www.youtube.com/watch?v=nWlsfbVcZGo \nReiko-Rymer\nLive throwing and booth space \nCeramics – Reiko is a ceramic artist. She has worked in ceramics for 20 years. She has been a student\, a teacher\, and managed a nonprofit pottery studio for 7 years. Reiko currently sells her pieces in Chattanooga\, TN which can be found at The Edwin Hotel\, in local stores (5 presently)\, and by private order.  She will also join Arts in the Burg as the resident potter in a working artist studio space in South Pittsburg\, TN https://www.instagram.com/reikorymerpottery/ \nSheryl Campbell\nOil/Acrylic –  Sheryl’s paintings include fine art\, abstracts\, and realism.. https://www.facebook.com/Art-By-SCampbell-103383981485007/ \nTeJha Mitchell\nOil/Acrylic – LOCAL – \nTeresa Baugh\nOil/Acrylic –  Imperfection is spectacular\, living life imperfectly. I’m a wanna be artist. Fluid Daze. Love creating art  https://www.instagram.com/tmalensky/
URL:https://artsintheburg.com/event/arts-in-the-burg-launch-party/
LOCATION:Princess Theatre Alleyway\, 227 South Cedar Ave\, South Pittsburg\, TN\, 37380\, United States
CATEGORIES:Entertainment
ATTACH;FMTTYPE=image/jpeg:https://artsintheburg.com/wp-content/uploads/2021/04/aitb-launch-event-fb-72dpi-041521-1.jpg
ORGANIZER;CN="Arts in the Burg":MAILTO:artsintheburg@gmail.com
END:VEVENT
BEGIN:VEVENT
DTSTART;TZID=UTC:20210322T180000
DTEND;TZID=UTC:20210322T190000
DTSTAMP:20260423T124137
CREATED:20210312T134607Z
LAST-MODIFIED:20210811T194642Z
UID:997-1616436000-1616439600@artsintheburg.com
SUMMARY:Community Mural Meeting
DESCRIPTION:Our community focus group for the first major mural is open to stakeholders and citizens of South Pittsburg and will be held via Zoom on 3/22/21 at 6 pm CST. We are also working on synced live stream options for Facebook and Youtube. During the meeting\, we will discuss the mural project with our muralist\, Ivan Roque. The goal is to encourage your comments to influence the creative process for the mural. Arts in the Burg organizers will ask questions about your experiences in South Pittsburg\, and you will have the opportunity to respond to our moderator in chats or comments. After the meeting\, we will quantify the responses by word clouding. Our artist will then create two rough sketches\, and you will have an opportunity to vote on the final design choice from 4/11/21 to 4/24/21. Just that quickly\, you’ve become a part of the art! \nJoin us on Facebook Live Stream \nOn 3/22/21 at 6pm CST follow this link: https://www.facebook.com/ArtsintheBurg \nJoin us on Zoom \nDale Woodfin\, Director of Art in the Burg is inviting you to a scheduled Zoom meeting. \nTopic: Arts in the Burg – Community Mural Meeting\nTime: Mar 22\, 2021 06:00 PM Central Time (US and Canada) \nJoin Zoom Meeting\nhttps://us02web.zoom.us/j/85969854294?pwd=MFdqQktsUHdUMDBvY21UMWVSeWZDdz09 \nMeeting ID: 859 6985 4294\nPasscode: 129257\nOne tap mobile\n+13017158592\,\,85969854294#\,\,\,\,*129257# US (Washington DC)\n+13126266799\,\,85969854294#\,\,\,\,*129257# US (Chicago) \nDial by your location\n+1 301 715 8592 US (Washington DC)\n+1 312 626 6799 US (Chicago)\n+1 929 205 6099 US (New York)\n+1 253 215 8782 US (Tacoma)\n+1 346 248 7799 US (Houston)\n+1 669 900 6833 US (San Jose)\nMeeting ID: 859 6985 4294\nPasscode: 129257\nFind your local number: https://us02web.zoom.us/u/kxwYyHstO
URL:https://artsintheburg.com/event/community-mural-meeting/
LOCATION:TN
CATEGORIES:Meeting
ATTACH;FMTTYPE=image/jpeg:https://artsintheburg.com/wp-content/uploads/2021/03/Mural_Campaign_Meeting_ONE_72dpi.jpg
END:VEVENT
END:VCALENDAR